BEGIN:VCALENDAR
VERSION:2.0
PRODID:-//NAQTRONIC - ECPv6.2.9//NONSGML v1.0//EN
CALSCALE:GREGORIAN
METHOD:PUBLISH
X-ORIGINAL-URL:https://www.naqtronic.fr
X-WR-CALDESC:évènements pour NAQTRONIC
REFRESH-INTERVAL;VALUE=DURATION:PT1H
X-Robots-Tag:noindex
X-PUBLISHED-TTL:PT1H
BEGIN:VTIMEZONE
TZID:Europe/Paris
BEGIN:DAYLIGHT
TZOFFSETFROM:+0100
TZOFFSETTO:+0200
TZNAME:CEST
DTSTART:20240331T010000
END:DAYLIGHT
BEGIN:STANDARD
TZOFFSETFROM:+0200
TZOFFSETTO:+0100
TZNAME:CET
DTSTART:20241027T010000
END:STANDARD
END:VTIMEZONE
BEGIN:VEVENT
DTSTART;VALUE=DATE:20241105
DTEND;VALUE=DATE:20241106
DTSTAMP:20260421T184950
CREATED:20240826T075856Z
LAST-MODIFIED:20241028T150820Z
UID:10000064-1730764800-1730851199@www.naqtronic.fr
SUMMARY:Batterie Lithium : règlementation\, transport et recyclage
DESCRIPTION:
URL:https://www.naqtronic.fr/event/batteries-piles-chargeurs-et-solutions-dalimentation-avec-stockage-pour-les-systemes-autonomes-2/
LOCATION:Parc AMPeRIS – bât. BAYA\, 10 rue Thomas Edison\, PESSAC\, 33600
CATEGORIES:EVENEMENT
ATTACH;FMTTYPE=image/png:https://www.naqtronic.fr/wp-content/uploads/2024/08/SEM-BATT-oct-24-sans-logo.png
END:VEVENT
END:VCALENDAR