BEGIN:VCALENDAR
VERSION:2.0
PRODID:-//NAQTRONIC - ECPv6.2.9//NONSGML v1.0//EN
CALSCALE:GREGORIAN
METHOD:PUBLISH
X-ORIGINAL-URL:https://www.naqtronic.fr
X-WR-CALDESC:évènements pour NAQTRONIC
REFRESH-INTERVAL;VALUE=DURATION:PT1H
X-Robots-Tag:noindex
X-PUBLISHED-TTL:PT1H
BEGIN:VTIMEZONE
TZID:Europe/Paris
BEGIN:DAYLIGHT
TZOFFSETFROM:+0100
TZOFFSETTO:+0200
TZNAME:CEST
DTSTART:20240331T010000
END:DAYLIGHT
BEGIN:STANDARD
TZOFFSETFROM:+0200
TZOFFSETTO:+0100
TZNAME:CET
DTSTART:20241027T010000
END:STANDARD
END:VTIMEZONE
BEGIN:VEVENT
DTSTART;TZID=Europe/Paris:20240531T090000
DTEND;TZID=Europe/Paris:20240531T160000
DTSTAMP:20260421T202443
CREATED:20240502T113501Z
LAST-MODIFIED:20240502T114053Z
UID:10000053-1717146000-1717171200@www.naqtronic.fr
SUMMARY:Produire à l'heure de l'IA  et des technologies avancées
DESCRIPTION:https://events.adi-na.fr/dihnamic-produire-ia
URL:https://www.naqtronic.fr/event/produire-a-lheure-de-lia-et-des-technologies-avancees/
LOCATION:Pépinière de la Technocité | Bayonne\, 9 Rue Pierre Georges Latecoere\, Bayonne\, 64100
CATEGORIES:EVENEMENT
ATTACH;FMTTYPE=image/png:https://www.naqtronic.fr/wp-content/uploads/2024/05/Les-RDV-de-lelectronique-en-Nouvelle-Aquitaine-6.png
END:VEVENT
END:VCALENDAR